BEGIN:VCALENDAR
VERSION:2.0
PRODID:-//Brewer Band Boosters - ECPv6.15.20//NONSGML v1.0//EN
CALSCALE:GREGORIAN
METHOD:PUBLISH
X-WR-CALNAME:Brewer Band Boosters
X-ORIGINAL-URL:https://brewerband.org
X-WR-CALDESC:Events for Brewer Band Boosters
REFRESH-INTERVAL;VALUE=DURATION:PT1H
X-Robots-Tag:noindex
X-PUBLISHED-TTL:PT1H
BEGIN:VTIMEZONE
TZID:America/Chicago
BEGIN:DAYLIGHT
TZOFFSETFROM:-0600
TZOFFSETTO:-0500
TZNAME:CDT
DTSTART:20210314T080000
END:DAYLIGHT
BEGIN:STANDARD
TZOFFSETFROM:-0500
TZOFFSETTO:-0600
TZNAME:CST
DTSTART:20211107T070000
END:STANDARD
BEGIN:DAYLIGHT
TZOFFSETFROM:-0600
TZOFFSETTO:-0500
TZNAME:CDT
DTSTART:20220313T080000
END:DAYLIGHT
BEGIN:STANDARD
TZOFFSETFROM:-0500
TZOFFSETTO:-0600
TZNAME:CST
DTSTART:20221106T070000
END:STANDARD
BEGIN:DAYLIGHT
TZOFFSETFROM:-0600
TZOFFSETTO:-0500
TZNAME:CDT
DTSTART:20230312T080000
END:DAYLIGHT
BEGIN:STANDARD
TZOFFSETFROM:-0500
TZOFFSETTO:-0600
TZNAME:CST
DTSTART:20231105T070000
END:STANDARD
BEGIN:DAYLIGHT
TZOFFSETFROM:-0600
TZOFFSETTO:-0500
TZNAME:CDT
DTSTART:20240310T080000
END:DAYLIGHT
BEGIN:STANDARD
TZOFFSETFROM:-0500
TZOFFSETTO:-0600
TZNAME:CST
DTSTART:20241103T070000
END:STANDARD
BEGIN:DAYLIGHT
TZOFFSETFROM:-0600
TZOFFSETTO:-0500
TZNAME:CDT
DTSTART:20250309T080000
END:DAYLIGHT
BEGIN:STANDARD
TZOFFSETFROM:-0500
TZOFFSETTO:-0600
TZNAME:CST
DTSTART:20251102T070000
END:STANDARD
END:VTIMEZONE
BEGIN:VEVENT
DTSTART;VALUE=DATE:20241026
DTEND;VALUE=DATE:20241027
DTSTAMP:20260422T084903
CREATED:20240905T022219Z
LAST-MODIFIED:20241008T164556Z
UID:1251-1729900800-1729987199@brewerband.org
SUMMARY:UIL Area Marching Contest
DESCRIPTION:Volunteer Here
URL:https://brewerband.org/events/uil-area-marching-contest/
LOCATION:Birdville Fine Arts Complex\, 9200 Mid Cities Blvd\, North Richland Hills\, 76180\, United States
CATEGORIES:Marching Competition
END:VEVENT
BEGIN:VEVENT
DTSTART;VALUE=DATE:20241015
DTEND;VALUE=DATE:20241016
DTSTAMP:20260422T084903
CREATED:20240905T022000Z
LAST-MODIFIED:20240905T022000Z
UID:1245-1728950400-1729036799@brewerband.org
SUMMARY:UIL Region Marching Contest
DESCRIPTION:Volunteer Here
URL:https://brewerband.org/events/uil-region-marching-contest/
LOCATION:Chisolm Trail High School\, 3100 NW College Dr\, Fort Worth\, TX\, 76179\, United States
CATEGORIES:Marching Competition
END:VEVENT
BEGIN:VEVENT
DTSTART;VALUE=DATE:20241012
DTEND;VALUE=DATE:20241013
DTSTAMP:20260422T084903
CREATED:20240905T022126Z
LAST-MODIFIED:20241007T011027Z
UID:1249-1728691200-1728777599@brewerband.org
SUMMARY:Birdville Marching Contest
DESCRIPTION:Volunteer Here
URL:https://brewerband.org/events/birdville-marching-contest-2/
LOCATION:Birdville Fine Arts Complex\, 9200 Mid Cities Blvd\, North Richland Hills\, 76180\, United States
CATEGORIES:Marching Competition
END:VEVENT
BEGIN:VEVENT
DTSTART;VALUE=DATE:20241005
DTEND;VALUE=DATE:20241006
DTSTAMP:20260422T084903
CREATED:20240905T022048Z
LAST-MODIFIED:20240905T022048Z
UID:1247-1728086400-1728172799@brewerband.org
SUMMARY:Midlothian Marching Contest
DESCRIPTION:Volunteer Here
URL:https://brewerband.org/events/midlothian-marching-contest/
CATEGORIES:Marching Competition
END:VEVENT
BEGIN:VEVENT
DTSTART;VALUE=DATE:20221022
DTEND;VALUE=DATE:20221023
DTSTAMP:20260422T084903
CREATED:20220810T185022Z
LAST-MODIFIED:20220812T223603Z
UID:538-1666396800-1666483199@brewerband.org
SUMMARY:UIL Area Marching Competition
DESCRIPTION:
URL:https://brewerband.org/events/uil-area-marching-competition/
LOCATION:Birdville ISD Stadium\, 6125 E Belknap St\, Haltom City\, TX\, 76117\, United States
CATEGORIES:Marching Competition,UIL
END:VEVENT
BEGIN:VEVENT
DTSTART;VALUE=DATE:20221015
DTEND;VALUE=DATE:20221016
DTSTAMP:20260422T084903
CREATED:20220810T185605Z
LAST-MODIFIED:20220812T223603Z
UID:547-1665792000-1665878399@brewerband.org
SUMMARY:Birdville Marching Contest
DESCRIPTION:
URL:https://brewerband.org/events/birdville-marching-contest/
LOCATION:Birdville ISD Stadium\, 6125 E Belknap St\, Haltom City\, TX\, 76117\, United States
CATEGORIES:Marching Competition
END:VEVENT
BEGIN:VEVENT
DTSTART;VALUE=DATE:20221011
DTEND;VALUE=DATE:20221012
DTSTAMP:20260422T084903
CREATED:20220809T005127Z
LAST-MODIFIED:20220812T223603Z
UID:528-1665446400-1665532799@brewerband.org
SUMMARY:UIL Region Marching Competition
DESCRIPTION:Make-Up day would be Oct 18
URL:https://brewerband.org/events/uil-region-marching-competition/
LOCATION:Saginaw High School\, 800 N. Blue Mound Rd.\, Saginaw\, TX\, 76131\, United States
CATEGORIES:Marching Competition,UIL
END:VEVENT
BEGIN:VEVENT
DTSTART;VALUE=DATE:20221008
DTEND;VALUE=DATE:20221009
DTSTAMP:20260422T084903
CREATED:20220810T185435Z
LAST-MODIFIED:20220812T223603Z
UID:544-1665187200-1665273599@brewerband.org
SUMMARY:Springtown Marching Contest
DESCRIPTION:
URL:https://brewerband.org/events/springtown-marching-contest/
LOCATION:Springtown High School\, 495 Pojo Rd\, Springtown\, TX\, 76082\, United States
CATEGORIES:Marching Competition
END:VEVENT
BEGIN:VEVENT
DTSTART;VALUE=DATE:20221004
DTEND;VALUE=DATE:20221005
DTSTAMP:20260422T084903
CREATED:20220809T023811Z
LAST-MODIFIED:20220812T223603Z
UID:535-1664841600-1664927999@brewerband.org
SUMMARY:ATT Stadium Marching Competition
DESCRIPTION:
URL:https://brewerband.org/events/att-stadium-marching-competition/
LOCATION:ATT Stadium\, Arlington\, TX\, United States
CATEGORIES:Marching Competition
END:VEVENT
BEGIN:VEVENT
DTSTART;VALUE=DATE:20221001
DTEND;VALUE=DATE:20221002
DTSTAMP:20260422T084903
CREATED:20220810T185202Z
LAST-MODIFIED:20220812T223603Z
UID:541-1664582400-1664668799@brewerband.org
SUMMARY:Paluxy Valley Marching Contest
DESCRIPTION:
URL:https://brewerband.org/events/paluxy-valley-marching-contest/
LOCATION:Glen Rose High School\, 1102 Stadium Dr\, Glen Rose\, TX\, 76043\, United States
CATEGORIES:Marching Competition
END:VEVENT
END:VCALENDAR